BEGIN:VCALENDAR
VERSION:2.0
PRODID:-//Web de la Asociación Cultural Falla Carrera Malilla Ingeniero Joaquín Benlloch - ECPv6.15.14//NONSGML v1.0//EN
CALSCALE:GREGORIAN
METHOD:PUBLISH
X-ORIGINAL-URL:https://fallamalillaingeniero.com
X-WR-CALDESC:Eventos para Web de la Asociación Cultural Falla Carrera Malilla Ingeniero Joaquín Benlloch
REFRESH-INTERVAL;VALUE=DURATION:PT1H
X-Robots-Tag:noindex
X-PUBLISHED-TTL:PT1H
BEGIN:VTIMEZONE
TZID:UTC
BEGIN:STANDARD
TZOFFSETFROM:+0000
TZOFFSETTO:+0000
TZNAME:UTC
DTSTART:20200101T000000
END:STANDARD
END:VTIMEZONE
BEGIN:VEVENT
DTSTART;TZID=UTC:20211120T183000
DTEND;TZID=UTC:20211120T200000
DTSTAMP:20260419T175656
CREATED:20211117T185707Z
LAST-MODIFIED:20211117T185754Z
UID:14435-1637433000-1637438400@fallamalillaingeniero.com
SUMMARY:Presentación bocetos Fallas 2022
DESCRIPTION:
URL:https://fallamalillaingeniero.com/event/presentacion-bocetos-fallas-2022/
LOCATION:Casal
ATTACH;FMTTYPE=image/jpeg:https://fallamalillaingeniero.com/wp-content/uploads/2021/11/presentacion-bocetos.jpg
END:VEVENT
END:VCALENDAR