BEGIN:VCALENDAR
VERSION:2.0
PRODID:-//Web de la Asociación Cultural Falla Carrera Malilla Ingeniero Joaquín Benlloch - ECPv6.15.14//NONSGML v1.0//EN
CALSCALE:GREGORIAN
METHOD:PUBLISH
X-WR-CALNAME:Web de la Asociación Cultural Falla Carrera Malilla Ingeniero Joaquín Benlloch
X-ORIGINAL-URL:https://fallamalillaingeniero.com
X-WR-CALDESC:Eventos para Web de la Asociación Cultural Falla Carrera Malilla Ingeniero Joaquín Benlloch
REFRESH-INTERVAL;VALUE=DURATION:PT1H
X-Robots-Tag:noindex
X-PUBLISHED-TTL:PT1H
BEGIN:VTIMEZONE
TZID:UTC
BEGIN:STANDARD
TZOFFSETFROM:+0000
TZOFFSETTO:+0000
TZNAME:UTC
DTSTART:20200101T000000
END:STANDARD
END:VTIMEZONE
BEGIN:VEVENT
DTSTART;TZID=UTC:20210509T194500
DTEND;TZID=UTC:20210509T200000
DTSTAMP:20260424T045209
CREATED:20210504T231752Z
LAST-MODIFIED:20210519T154524Z
UID:13066-1620589500-1620590400@fallamalillaingeniero.com
SUMMARY:Junta General del día 9 de Mayo 2021
DESCRIPTION:Por la presente se convoca a Junta General Extraordinaria que se celebrará de manera telemática\, para el próximo Domingo día 9 de mayo a las 19:45 horas en primera convocatoria y a las 20:00 horas en segunda convocatoria\, con el siguiente orden del día: \nAPROBACIÓN ACTA ANTERIOR\nAPROBACIÓN SI PROCEDE DE LA JUNTA DIRECTIVA\nAPROBACIÓN PRESUPUESTOS 2021-2022\nAPERTURA CANDIDATAS A FALLERAS MAYORES Y PRESIDENTE INFANTIL\nINFORME JUNTA RECTORA\nRUEGOS Y PREGUNTAS\nEl enlace de acceso a la retransmisión de la Junta General se enviará por correo electrónico aproximadamente a las 19:30 horas.\nPara hacernos llegar vuestros comentarios o cuestiones\, así como los Ruegos y Preguntas\, será a través de los comentarios de la propia retransmisión o bien a través del correo electrónico de Secretaría y se atenderán en el directo.
URL:https://fallamalillaingeniero.com/event/junta-general-mayo-2020/
CATEGORIES:Generales
END:VEVENT
BEGIN:VEVENT
DTSTART;TZID=UTC:20210523T183000
DTEND;TZID=UTC:20210523T220000
DTSTAMP:20260424T045209
CREATED:20210518T154428Z
LAST-MODIFIED:20210519T155321Z
UID:13921-1621794600-1621807200@fallamalillaingeniero.com
SUMMARY:JUNTA GENERAL DEL DÍA 23 DE MAYO DE 2021
DESCRIPTION:CONVOCATORIA DE JUNTA GENERAL DEL DÍA 23 DE MAYO DE 2021 \nPor la presente se convoca a Junta General que se celebrará de manera presencial como telemática\, para el próximo Domingo día 23 de mayo de 2021 a las 18:45 horas en primera convocatoria y a las 19:00 horas en segunda convocatoria\, con el siguiente orden del día: \n1. APROBACIÓN ACTA ANTERIOR\n2. RESULTADO VOTACIÓN PRESUPUESTOS EJERCICIO 2021-2022\n3. APROBACIÓN PRESUPUESTO REFORMA CASALES\n4. INFORME DE PRESIDENCIA\n5. RUEGOS Y PREGUNTAS \n MEDIDAS COVID-19:\nDespués de aprobarse las nuevas medidas sanitarias para las sedes festeras (es donde a fecha de hoy están recogidos los casales)\, la junta general será tanto presencial como telemática con las siguientes medidas:\n– Aforo máximo del 75 por ciento\, tanto en el casal A como en el Casal B\, se irá entrando por orden de llegada hasta completar el aforo (aproximadamente unas 150 personas entre los dos casales).\n– Se tomará a todos los asistentes la temperatura\, y se tomará nota de su nombre y número de teléfono.\n– En todo momento se tendrá que tener puesta la mascarilla\, y habrá gel hidroalcohólico a disposición de todos los asistentes.\n– Dentro del casal no está permitido ni comer ni beber.\n– Sólo podrán entrar los falleros que pertenezcan a la comisión mayor.\n– La votación del punto 3 será realizada de manera online como con los presupuestos\, para que así todos los falleros\, tanto los presenciales como los que estén en casa puedan votar.\n·  A esta convocatoria se adjunta el acta de la junta anterior para su aprobación en el primer punto del orden del día.\n· El enlace de acceso a la retransmisión de la Junta General se enviará por correo electrónico aproximadamente a las 18:30 horas.\n·   Para hacernos llegar vuestros comentarios o cuestiones\, así como los Ruegos y Preguntas\, será a través de los comentarios de la propia retransmisión o bien a través del correo electrónico de Secretaría y se atenderán en el directo.
URL:https://fallamalillaingeniero.com/event/convocatoria-de-junta-general-del-dia-23-de-mayo-de-2021/
CATEGORIES:Generales
ATTACH;FMTTYPE=image/jpeg:https://fallamalillaingeniero.com/wp-content/uploads/2018/09/cropped-logo_falla-1.jpeg
END:VEVENT
BEGIN:VEVENT
DTSTART;TZID=UTC:20210530T194500
DTEND;TZID=UTC:20210530T220000
DTSTAMP:20260424T045209
CREATED:20210525T180524Z
LAST-MODIFIED:20210529T180554Z
UID:13967-1622403900-1622412000@fallamalillaingeniero.com
SUMMARY:JUNTA GENERAL DEL DÍA 30 DE MAYO DE 2021
DESCRIPTION:CONVOCATORIA DE JUNTA GENERAL DEL DÍA 30 DE MAYO DE 2021 \nPor la presente se convoca a Junta General que se celebrará de manera presencial como telemática\, para el próximo Domingo día 30 de mayo de 2021 a las 19:45 horas en primera convocatoria y a las 20:00 horas en segunda convocatoria\, con el siguiente orden del día: \n1. APROBACIÓN ACTA ANTERIOR\n2. RESULTADO VOTACIÓN REFORMA DE CASALES\n3. INFORME DE JUNTA RECTORA\n4. CIERRE CANDIDATURAS FALLERAS MAYORES Y PRESIDENTE INFANTIL\n5. RUEGOS Y PREGUNTAS \n MEDIDAS COVID-19:\nDespués de aprobarse las nuevas medidas sanitarias para las sedes festeras (es donde a fecha de hoy están recogidos los casales)\, la junta general será tanto presencial como telemática con las siguientes medidas:\n– Aforo máximo del 75 por ciento\, tanto en el casal A como en el Casal B\, se irá entrando por orden de llegada hasta completar el aforo (aproximadamente unas 150 personas entre los dos casales).\n– Se tomará a todos los asistentes la temperatura\, y se tomará nota de su nombre y número de teléfono.\n– En todo momento se tendrá que tener puesta la mascarilla\, y habrá gel hidroalcohólico a disposición de todos los asistentes.\n– Dentro del casal no está permitido ni comer ni beber.\n– Sólo podrán entrar los falleros que pertenezcan a la comisión mayor.\n·  A esta convocatoria se adjunta el acta de la junta anterior para su aprobación en el primer punto del orden del día. Y el acta del día 9 con la corrección que se dijo por parte de secretaría.\n· El enlace de acceso a la retransmisión de la Junta General se enviará por correo electrónico aproximadamente a las 18:30 horas.\n·   Para hacernos llegar vuestros comentarios o cuestiones\, así como los Ruegos y Preguntas\, será a través de los comentarios de la propia retransmisión o bien a través del correo electrónico de Secretaría y se atenderán en el directo.
URL:https://fallamalillaingeniero.com/event/junta-general-del-dia-30-de-mayo-de-2021/
CATEGORIES:Generales
END:VEVENT
END:VCALENDAR