BEGIN:VCALENDAR
VERSION:2.0
PRODID:-//Web de la Asociación Cultural Falla Carrera Malilla Ingeniero Joaquín Benlloch - ECPv6.15.14//NONSGML v1.0//EN
CALSCALE:GREGORIAN
METHOD:PUBLISH
X-ORIGINAL-URL:https://fallamalillaingeniero.com
X-WR-CALDESC:Eventos para Web de la Asociación Cultural Falla Carrera Malilla Ingeniero Joaquín Benlloch
REFRESH-INTERVAL;VALUE=DURATION:PT1H
X-Robots-Tag:noindex
X-PUBLISHED-TTL:PT1H
BEGIN:VTIMEZONE
TZID:UTC
BEGIN:STANDARD
TZOFFSETFROM:+0000
TZOFFSETTO:+0000
TZNAME:UTC
DTSTART:20200101T000000
END:STANDARD
END:VTIMEZONE
BEGIN:VEVENT
DTSTART;VALUE=DATE:20210831
DTEND;VALUE=DATE:20210901
DTSTAMP:20260424T001553
CREATED:20210824T165629Z
LAST-MODIFIED:20210824T185800Z
UID:14237-1630368000-1630454399@fallamalillaingeniero.com
SUMMARY:Programa de Fallas Septiembre 2021
DESCRIPTION:19:30h. Concentración en la carpa para junto a nuestra FMI Daniela\, recibir como se merece a nuestro ninot infantil de la Exposición. 1º Premio de la Categoria 2ª. \n20:00h. Cena planta infantil ofrecida por nuestra Fallera Mayor Infantil Daniela Soriano Sala. Seguidamente se hará entrega de las recompensas otorgadas por JCF\, entrega de chupetines a los recién nacidos e imposición del distintivo de Brillantes colectivo a nuestro estandarte Infantil.
URL:https://fallamalillaingeniero.com/event/cena-planta-infantil-recompensas-chupetines-y-distintivo-de-brillantes-al-estandarte-infantil/
LOCATION:Carpa
END:VEVENT
END:VCALENDAR