BEGIN:VCALENDAR
VERSION:2.0
PRODID:-//Web de la Asociación Cultural Falla Carrera Malilla Ingeniero Joaquín Benlloch - ECPv6.15.14//NONSGML v1.0//EN
CALSCALE:GREGORIAN
METHOD:PUBLISH
X-ORIGINAL-URL:https://fallamalillaingeniero.com
X-WR-CALDESC:Eventos para Web de la Asociación Cultural Falla Carrera Malilla Ingeniero Joaquín Benlloch
REFRESH-INTERVAL;VALUE=DURATION:PT1H
X-Robots-Tag:noindex
X-PUBLISHED-TTL:PT1H
BEGIN:VTIMEZONE
TZID:UTC
BEGIN:STANDARD
TZOFFSETFROM:+0000
TZOFFSETTO:+0000
TZNAME:UTC
DTSTART:20200101T000000
END:STANDARD
END:VTIMEZONE
BEGIN:VEVENT
DTSTART;VALUE=DATE:20210901
DTEND;VALUE=DATE:20210902
DTSTAMP:20260423T214359
CREATED:20210824T170658Z
LAST-MODIFIED:20210824T185744Z
UID:14242-1630454400-1630540799@fallamalillaingeniero.com
SUMMARY:Programa de Fallas Septiembre 2021
DESCRIPTION:08:00h.  Plantá de nuestra Falla Infantil “Somriure” de David Ojeda. Los infantiles esperarán al jurado y cruzaremos los dedos para obtener un buen premio. \n10:00h.  Concurso de dibujo infantil.  \n11:00h. Juegos de agua para infantiles. \n20:00h. Preparados en la carpa para la recepción junto a nuestra Fallera Mayor Sol de nuestro ninot de la Exposición.  \n21:30h. Cena de la Plantá Mayor ofrecida por nuestra Fallera Mayor Sol Cano García. A continuación\, entrega de las recompensas de mayores (bronce\, plata\, oro y fulles de llorer). Acabaremos de montar nuestra Falla Mayor “En la Porta del Costat” de nuestro artista Luis Espinosa.
URL:https://fallamalillaingeniero.com/event/14242/
LOCATION:Carpa
END:VEVENT
BEGIN:VEVENT
DTSTART;VALUE=DATE:20210902
DTEND;VALUE=DATE:20210903
DTSTAMP:20260423T214359
CREATED:20210824T171243Z
LAST-MODIFIED:20210824T185723Z
UID:14250-1630540800-1630627199@fallamalillaingeniero.com
SUMMARY:Programa de Fallas Septiembre 2021
DESCRIPTION:10:00h.: Almuerzo. A continuación\, esperaremos junto a nuestra FM Sol al Jurado de la Falla Mayor. \n17:00h. a 21:00h.: tardeo amenizado con nuestro DJ “Ella pincha sola” y respetando las medidas COVID. \n18:00h. Concentración en nuestra carpa para ir junto a Daniela a recoger los merecidos premios de nuestros infantiles. \n22:00h. Cena de sobaquillo para mayores.
URL:https://fallamalillaingeniero.com/event/programa-fallas-septiembre-2021/
LOCATION:Carpa
END:VEVENT
BEGIN:VEVENT
DTSTART;VALUE=DATE:20210903
DTEND;VALUE=DATE:20210904
DTSTAMP:20260423T214359
CREATED:20210824T172408Z
LAST-MODIFIED:20210824T185704Z
UID:14253-1630627200-1630713599@fallamalillaingeniero.com
SUMMARY:Programa de Fallas Septiembre 2021
DESCRIPTION:10:00h.: Almuerzo \n11:00h.: Concentración para ir a recoger los premios de los Mayores junto a nuestra FM. \n18:00h.: Nos pondremos en forma para el fin de sema con una Masterclass de Zumba para mayores y pequeños. \n19:30h.: 1ª parte del acto de entrega de recompensas de los “Bunyols d´Or amb Fulles de Llorer i Brilliants”. \n21:30h.: Cena de sobaquillo. \n23:00h.: 2ª parte del acto de entrega de recompensas de los “Bunyols d´Or amb Fulles de Llorer i Brilliants”. Enhorabuena a todos ellos.
URL:https://fallamalillaingeniero.com/event/programa-de-fallas-septiembre-2021/
LOCATION:Carpa
END:VEVENT
BEGIN:VEVENT
DTSTART;VALUE=DATE:20210904
DTEND;VALUE=DATE:20210905
DTSTAMP:20260423T214359
CREATED:20210824T172624Z
LAST-MODIFIED:20210824T185648Z
UID:14255-1630713600-1630799999@fallamalillaingeniero.com
SUMMARY:Programa de Fallas Septiembre 2021
DESCRIPTION:07:30h.: Concentración para acudir a la Ofrenda de flores a la “nostra MARE DE DÉU”. \n11:00h.: A la vuelta almuerzo para reponer fuerzas. \n13:30h.: Gran Cohetá manual. \n17:00h.: Castillos hinchables para nuestros infantiles. \n17:00h. a 20:00h.  Tardeo mientras pinchará de nuevo “DJ Ella pincha sola”\, respetando las medidas COVID. \n20:30h.: Cena de sobaquillo infantil. \n22:00h.:  Cena de sobaquillo para los mayores. Al finalizar se hará entrega de insignias a nuestros cadetes.
URL:https://fallamalillaingeniero.com/event/programa-de-fallas-septiembre-2021-2/
LOCATION:Carpa
END:VEVENT
BEGIN:VEVENT
DTSTART;VALUE=DATE:20210905
DTEND;VALUE=DATE:20210906
DTSTAMP:20260423T214359
CREATED:20210824T172923Z
LAST-MODIFIED:20210824T185626Z
UID:14257-1630800000-1630886399@fallamalillaingeniero.com
SUMMARY:Programa de Fallas Septiembre 2021
DESCRIPTION:10:00h.: Almuerzo \n12:30h.: Concentración en nuestra carpa para ir a misa a nuestra Parroquia de Santa Cecilia. Al finalizar pasacalles por nuestra demarcación. \n14:00h.: Grandiosa Mascletá de la pirotecnia RICASA. \n15:00h.: Comida de sobaquillo libre. \n17:00h.: Gynkana fotográfica infantil. \n19:00h.: Merienda-Cena infantil de sobaquillo de la Cremà. \n20:00h.: Nuestra Fallera Mayor Infantil DANIELA SORIANO SALA\, procederá a la CREMÀ de la falla infantil. \n21:00h.: Cena de sobaquillo de la Cremà Mayor. \n22:30h.: Acompañaremos a nuestra Fallera Mayor SOL CANO GARCÍA para que de paso a la CREMÀ de la falla mayor\, dando por finalizadas las FALLAS DE 2021.
URL:https://fallamalillaingeniero.com/event/programa-de-fallas-septiembre-2021-3/
LOCATION:Carpa
END:VEVENT
END:VCALENDAR