BEGIN:VCALENDAR
VERSION:2.0
PRODID:-//Web de la Asociación Cultural Falla Carrera Malilla Ingeniero Joaquín Benlloch - ECPv6.15.14//NONSGML v1.0//EN
CALSCALE:GREGORIAN
METHOD:PUBLISH
X-WR-CALNAME:Web de la Asociación Cultural Falla Carrera Malilla Ingeniero Joaquín Benlloch
X-ORIGINAL-URL:https://fallamalillaingeniero.com
X-WR-CALDESC:Eventos para Web de la Asociación Cultural Falla Carrera Malilla Ingeniero Joaquín Benlloch
REFRESH-INTERVAL;VALUE=DURATION:PT1H
X-Robots-Tag:noindex
X-PUBLISHED-TTL:PT1H
BEGIN:VTIMEZONE
TZID:UTC
BEGIN:STANDARD
TZOFFSETFROM:+0000
TZOFFSETTO:+0000
TZNAME:UTC
DTSTART:20200101T000000
END:STANDARD
END:VTIMEZONE
BEGIN:VEVENT
DTSTART;TZID=UTC:20211218T180000
DTEND;TZID=UTC:20211218T200000
DTSTAMP:20260423T171921
CREATED:20211214T005019Z
LAST-MODIFIED:20211214T005019Z
UID:14500-1639850400-1639857600@fallamalillaingeniero.com
SUMMARY:Chocolatá y visita de Papa Noel para nuestros infantiles.
DESCRIPTION:El próximo sábado 18 a las 18:00h chocolatá y visita de Papa Noel.
URL:https://fallamalillaingeniero.com/event/chocolata-y-visita-de-papa-noel-para-nuestros-infantiles/
LOCATION:Casal
END:VEVENT
BEGIN:VEVENT
DTSTART;VALUE=DATE:20211228
DTEND;VALUE=DATE:20211229
DTSTAMP:20260423T171921
CREATED:20211221T010109Z
LAST-MODIFIED:20211227T210430Z
UID:14538-1640649600-1640735999@fallamalillaingeniero.com
SUMMARY:Visita a Expojove. CANCELADA
DESCRIPTION:
URL:https://fallamalillaingeniero.com/event/visita-a-expojove/
END:VEVENT
BEGIN:VEVENT
DTSTART;TZID=UTC:20211230T183000
DTEND;TZID=UTC:20211230T203000
DTSTAMP:20260423T171921
CREATED:20211214T005216Z
LAST-MODIFIED:20211214T005216Z
UID:14503-1640889000-1640896200@fallamalillaingeniero.com
SUMMARY:Merienda de Gala Infantil.
DESCRIPTION:-Merienda de Gala. \nJueves día 30 de diciembre a las 18:30h \nOs esperamos a todos para despedir el año vestidos de gala como la ocasión lo requiere\, celebraremos la nochevieja con las campanadas\, cotillón y con un fin de fiesta «discoteca» \nNombraremos a todos los niños que vuestros cumpleaños son entre julio y diciembre.. apuntarse en la lista!!!!
URL:https://fallamalillaingeniero.com/event/merienda-de-gala-infantil/
LOCATION:Casal
END:VEVENT
END:VCALENDAR