BEGIN:VCALENDAR
VERSION:2.0
PRODID:-//Web de la Asociación Cultural Falla Carrera Malilla Ingeniero Joaquín Benlloch - ECPv6.15.14//NONSGML v1.0//EN
CALSCALE:GREGORIAN
METHOD:PUBLISH
X-ORIGINAL-URL:https://fallamalillaingeniero.com
X-WR-CALDESC:Eventos para Web de la Asociación Cultural Falla Carrera Malilla Ingeniero Joaquín Benlloch
REFRESH-INTERVAL;VALUE=DURATION:PT1H
X-Robots-Tag:noindex
X-PUBLISHED-TTL:PT1H
BEGIN:VTIMEZONE
TZID:UTC
BEGIN:STANDARD
TZOFFSETFROM:+0000
TZOFFSETTO:+0000
TZNAME:UTC
DTSTART:20210101T000000
END:STANDARD
END:VTIMEZONE
BEGIN:VEVENT
DTSTART;TZID=UTC:20220103T163000
DTEND;TZID=UTC:20220103T210000
DTSTAMP:20260423T154055
CREATED:20211214T005443Z
LAST-MODIFIED:20211214T005548Z
UID:14506-1641227400-1641243600@fallamalillaingeniero.com
SUMMARY:Circo Alaska.
DESCRIPTION:-Circo Alaska \nLunes 3 de Enero a las 16:30h \nNos vamos al circo!!!!! para las entradas hay que apuntarse en el listado y ponerse en contacto con la delegación de infantiles con una fecha tope del 28-12\, el precio de las entradas es de 8€. \n-Paje Real \nLunes 3 de Enero a la vuelta del circo tendremos en nuestro casal al Paje Real que estará recogiendo vuestras cartas para los Reyes Magos. \n 
URL:https://fallamalillaingeniero.com/event/circo-alaska/
END:VEVENT
BEGIN:VEVENT
DTSTART;TZID=UTC:20220105T180000
DTEND;TZID=UTC:20220105T190000
DTSTAMP:20260423T154055
CREATED:20211214T005702Z
LAST-MODIFIED:20211214T005702Z
UID:14510-1641405600-1641409200@fallamalillaingeniero.com
SUMMARY:Cabalgata SSMM. Reyes Magos
DESCRIPTION:
URL:https://fallamalillaingeniero.com/event/cabalgata-ssmm-reyes-magos/
LOCATION:Casal
END:VEVENT
BEGIN:VEVENT
DTSTART;TZID=UTC:20220116T100000
DTEND;TZID=UTC:20220116T140000
DTSTAMP:20260423T154055
CREATED:20211214T005822Z
LAST-MODIFIED:20211214T005831Z
UID:14512-1642327200-1642341600@fallamalillaingeniero.com
SUMMARY:Presentación Mayor
DESCRIPTION:
URL:https://fallamalillaingeniero.com/event/presentacion-mayor/
END:VEVENT
BEGIN:VEVENT
DTSTART;TZID=UTC:20220129T180000
DTEND;TZID=UTC:20220129T200000
DTSTAMP:20260423T154055
CREATED:20220119T220312Z
LAST-MODIFIED:20220119T220312Z
UID:14605-1643479200-1643486400@fallamalillaingeniero.com
SUMMARY:Inauguración Exposición 50 aniversario Comisión Infantil
DESCRIPTION:
URL:https://fallamalillaingeniero.com/event/inauguracion-exposicion-50-aniversario-comision-infantil/
LOCATION:Casal
END:VEVENT
END:VCALENDAR