BEGIN:VCALENDAR
VERSION:2.0
PRODID:-//Web de la Asociación Cultural Falla Carrera Malilla Ingeniero Joaquín Benlloch - ECPv6.15.14//NONSGML v1.0//EN
CALSCALE:GREGORIAN
METHOD:PUBLISH
X-WR-CALNAME:Web de la Asociación Cultural Falla Carrera Malilla Ingeniero Joaquín Benlloch
X-ORIGINAL-URL:https://fallamalillaingeniero.com
X-WR-CALDESC:Eventos para Web de la Asociación Cultural Falla Carrera Malilla Ingeniero Joaquín Benlloch
REFRESH-INTERVAL;VALUE=DURATION:PT1H
X-Robots-Tag:noindex
X-PUBLISHED-TTL:PT1H
BEGIN:VTIMEZONE
TZID:UTC
BEGIN:STANDARD
TZOFFSETFROM:+0000
TZOFFSETTO:+0000
TZNAME:UTC
DTSTART:20210101T000000
END:STANDARD
END:VTIMEZONE
BEGIN:VEVENT
DTSTART;TZID=UTC:20220408T213000
DTEND;TZID=UTC:20220408T233000
DTSTAMP:20260423T103002
CREATED:20220406T171020Z
LAST-MODIFIED:20220406T171102Z
UID:14885-1649453400-1649460600@fallamalillaingeniero.com
SUMMARY:Cena y Junta General Extraordinaria
DESCRIPTION:CONVOCATORIA DE JUNTA GENERAL EXTRAORDINARIA \nDEL DÍA 8 DE ABRIL DE 2022 \nPor la presente se convoca en el casal de la Falla a Junta General Extraordinaria del mes de abril\, para el próximo Viernes día 8 de abril de 2022 a las 22:00 horas en primera convocatoria y a las 22:30 horas en segunda convocatoria\, con el siguiente orden del día: \n\nAPROBACIÓN ACTA ANTERIOR\nINFORME DE JUNTA RECTORA\nCIERRE EJERCICIO 2021-2022\nRUEGOS Y PREGUNTAS\nPRESENTACIÓN DE CANDIDATURAS Y ELECCIÓN DE PRESIDENTE/A PARA EL EJERCICIO 2022-2023\n\n\nA esta convocatoria se adjunta el acta de la junta anterior para su aprobación en el primer punto del orden del día.\nAsí mismo\, continúa siendo obligatorio el uso de mascarillaen espacios cerrados y en espacios al aire libre donde no se puede respetar la distancia de seguridad.\nSe recuerda que la cena comenzará a las 21:30.
URL:https://fallamalillaingeniero.com/event/8-de-abril-cena-y-junta-general-extraordinaria/
END:VEVENT
END:VCALENDAR