BEGIN:VCALENDAR
VERSION:2.0
PRODID:-//Web de la Asociación Cultural Falla Carrera Malilla Ingeniero Joaquín Benlloch - ECPv6.15.14//NONSGML v1.0//EN
CALSCALE:GREGORIAN
METHOD:PUBLISH
X-ORIGINAL-URL:https://fallamalillaingeniero.com
X-WR-CALDESC:Eventos para Web de la Asociación Cultural Falla Carrera Malilla Ingeniero Joaquín Benlloch
REFRESH-INTERVAL;VALUE=DURATION:PT1H
X-Robots-Tag:noindex
X-PUBLISHED-TTL:PT1H
BEGIN:VTIMEZONE
TZID:UTC
BEGIN:STANDARD
TZOFFSETFROM:+0000
TZOFFSETTO:+0000
TZNAME:UTC
DTSTART:20210101T000000
END:STANDARD
END:VTIMEZONE
BEGIN:VEVENT
DTSTART;TZID=UTC:20220514T180000
DTEND;TZID=UTC:20220515T013000
DTSTAMP:20260421T071709
CREATED:20220514T153031Z
LAST-MODIFIED:20220514T153031Z
UID:14943-1652551200-1652578200@fallamalillaingeniero.com
SUMMARY:Fiesta Eurovisión
DESCRIPTION:Eurovisión 2022
URL:https://fallamalillaingeniero.com/event/fiesta-eurovision/
END:VEVENT
BEGIN:VEVENT
DTSTART;TZID=UTC:20220528T220000
DTEND;TZID=UTC:20220529T010000
DTSTAMP:20260421T071709
CREATED:20220522T233943Z
LAST-MODIFIED:20220522T233943Z
UID:14972-1653775200-1653786000@fallamalillaingeniero.com
SUMMARY:Junta General Extraordinaria y elección FM y representantes infantiles 2023
DESCRIPTION:CONVOCATORIA DE JUNTA GENERAL EXTRAORDINARIA \nDEL DÍA 28 DE MAYO DE 2022 \n Por la presente se convoca en el casal de la Falla la Junta General Extraordinaria\, para el próximo Sábado día 28 de mayo de 2022 a las 22:00 horas en primera convocatoria y a las 22:30 horas en segunda convocatoria\, será el sábado ya que el viernes día 27 de mayo hay un acto organizado por Junta Central Fallera. \nOrden del día: \n 1. APROBACIÓN ACTA ANTERIOR \n2. APROBACIÓN PRESUPUESTO EJERCICIO 2022-2023 \n3. INFORME PRESIDENCIA \n4. FIESTA DE SAN JUAN \n5. CIERRE CANDIDATURAS FALLERAS MAYORES Y PRESIDENTE INFANTIL \n6. RUEGOS Y PREGUNTAS \n\n\n\n· A esta convocatoria se adjunta el acta de la junta anterior para su aprobación en el primer punto del orden del día.\n\n· Se recuerda que la cena comenzará a las 21:30 horas.
URL:https://fallamalillaingeniero.com/event/junta-general-extraordinaria-y-eleccion-fm-y-representantes-infantiles-2023/
LOCATION:Casal
END:VEVENT
BEGIN:VEVENT
DTSTART;TZID=UTC:20220529T180000
DTEND;TZID=UTC:20220529T200000
DTSTAMP:20260421T071709
CREATED:20220525T095247Z
LAST-MODIFIED:20220525T095336Z
UID:14987-1653847200-1653854400@fallamalillaingeniero.com
SUMMARY:Fiesta de la Primavera
DESCRIPTION:Bueno chic@s y seguimos.Como ya os dijimos\, está abierta la candidatura hasta el día 28 de Mayo a Fallera Mayor Infantil y Presidente  o Presidenta Mayor Infantil. Animaos que es una experiencia muy bonita.El próximo día 29 de Mayo\, domingo\, a las 18 horas celebraremos La Fiesta de la Primavera donde conoceremos a nuestros representantes para el 2023.  Tras la merienda haremos manualidades que luego utilizaremos para la Hoguera de San Juan y celebraremos los cumpleaños de Abril y Mayo.   Os esperamos muy primaverales con todos los complementos que se os ocurran… Gafas de Sol\, sombreros\, flores y…. Mucho color.  Seguro que nos sorprendéis.
URL:https://fallamalillaingeniero.com/event/fiesta-de-la-primavera/
END:VEVENT
END:VCALENDAR