BEGIN:VCALENDAR
VERSION:2.0
PRODID:-//Web de la Asociación Cultural Falla Carrera Malilla Ingeniero Joaquín Benlloch - ECPv6.15.14//NONSGML v1.0//EN
CALSCALE:GREGORIAN
METHOD:PUBLISH
X-ORIGINAL-URL:https://fallamalillaingeniero.com
X-WR-CALDESC:Eventos para Web de la Asociación Cultural Falla Carrera Malilla Ingeniero Joaquín Benlloch
REFRESH-INTERVAL;VALUE=DURATION:PT1H
X-Robots-Tag:noindex
X-PUBLISHED-TTL:PT1H
BEGIN:VTIMEZONE
TZID:UTC
BEGIN:STANDARD
TZOFFSETFROM:+0000
TZOFFSETTO:+0000
TZNAME:UTC
DTSTART:20210101T000000
END:STANDARD
END:VTIMEZONE
BEGIN:VEVENT
DTSTART;TZID=UTC:20220604T100000
DTEND;TZID=UTC:20220604T130000
DTSTAMP:20260421T053759
CREATED:20220522T234232Z
LAST-MODIFIED:20220522T234232Z
UID:14974-1654336800-1654347600@fallamalillaingeniero.com
SUMMARY:Festival castells d´arena Pinedo
DESCRIPTION:Hola xics i xiques!!!El pròxim Dissabte 4 de juny\, anem a la platja de Pinedo per a participar amb la resta de comissions de l’Agrupació en el tradicional Festival de Castells d’Arena\, ens reunirem les 10:00 a la porta del casal amb la samarreta roja de la falla i acompanyats d’un adult. Heu de portar: poals\, pales\, rasclets\, protector solar\, vestit de bany i ganes de passar-ho moooolt bé!!!Data límit per a apuntar-se: 23 de maig 2022.Us esperem!!!!
URL:https://fallamalillaingeniero.com/event/festival-castells-darena-pinedo/
END:VEVENT
BEGIN:VEVENT
DTSTART;TZID=UTC:20220605T093000
DTEND;TZID=UTC:20220605T130000
DTSTAMP:20260421T053759
CREATED:20220522T234400Z
LAST-MODIFIED:20220522T234400Z
UID:14977-1654421400-1654434000@fallamalillaingeniero.com
SUMMARY:Concurso Dibujo Parque Central JCF
DESCRIPTION:El domingo 5 de junio\, por la mañana tenemos el concurso de dibujo y pintura organizado por  Junta Central Fallera en el Parque Central.La concentración la haremos en la puerta del casal\, a las 9:30\, con la camiseta roja de la falla\, y siempre acompañados de un adulto.Recordaros que tenéis que llevar el material para dibujar: folios\, lápices\, goma\, sacapuntas…..La fecha tope para apuntaros es hasta el lunes 23 de mayo\, en las hojas del tablón del casal…Así que a dibujar sea dicho y sacar todo el arte que lleváis dentro!!!
URL:https://fallamalillaingeniero.com/event/concurso-dibujo-parque-central-jcf/
END:VEVENT
BEGIN:VEVENT
DTSTART;TZID=UTC:20220618T110000
DTEND;TZID=UTC:20220619T030000
DTSTAMP:20260421T053759
CREATED:20220617T154240Z
LAST-MODIFIED:20220617T154240Z
UID:15017-1655550000-1655607600@fallamalillaingeniero.com
SUMMARY:Fiesta S. Juan
DESCRIPTION:
URL:https://fallamalillaingeniero.com/event/fiesta-s-juan/
END:VEVENT
END:VCALENDAR