BEGIN:VCALENDAR
VERSION:2.0
PRODID:-//Web de la Asociación Cultural Falla Carrera Malilla Ingeniero Joaquín Benlloch - ECPv6.15.14//NONSGML v1.0//EN
CALSCALE:GREGORIAN
METHOD:PUBLISH
X-ORIGINAL-URL:https://fallamalillaingeniero.com
X-WR-CALDESC:Eventos para Web de la Asociación Cultural Falla Carrera Malilla Ingeniero Joaquín Benlloch
REFRESH-INTERVAL;VALUE=DURATION:PT1H
X-Robots-Tag:noindex
X-PUBLISHED-TTL:PT1H
BEGIN:VTIMEZONE
TZID:UTC
BEGIN:STANDARD
TZOFFSETFROM:+0000
TZOFFSETTO:+0000
TZNAME:UTC
DTSTART:20210101T000000
END:STANDARD
END:VTIMEZONE
BEGIN:VEVENT
DTSTART;TZID=UTC:20221001T120000
DTEND;TZID=UTC:20221001T133000
DTSTAMP:20260420T232635
CREATED:20220925T101500Z
LAST-MODIFIED:20220925T101620Z
UID:15258-1664625600-1664631000@fallamalillaingeniero.com
SUMMARY:VIII Festival Cine Infantil.
DESCRIPTION:Nos ponemos en contacto con vosotros\, para daros a conocer la 8 Edición del Festival Internacional de cine INFANTIL de Valencia (FICIV). \nEstamos ilusionadas en proponeros ir a disfrutar del mejor cine Familiar y ver alguna de las películas que os proponemos\, en la sesión matinal del 1 de OCTUBRE a las 12:00 en el cine Lys. \nAl ser comisión infantil el precio es muy especial y será de 2\,50€ \, para ello tenéis que bajar este martes 27 de septiembre a las 19:00 al casal. \nOs mandamos un cariñoso saludo \, y os esperamos el martes en el casal para apuntaros!!!!
URL:https://fallamalillaingeniero.com/event/viii-festival-cine-infantil/
END:VEVENT
BEGIN:VEVENT
DTSTART;TZID=UTC:20221008T170000
DTEND;TZID=UTC:20221008T233000
DTSTAMP:20260420T232635
CREATED:20220925T101848Z
LAST-MODIFIED:20220930T172123Z
UID:15262-1665248400-1665271800@fallamalillaingeniero.com
SUMMARY:Festival Agrupació
DESCRIPTION:
URL:https://fallamalillaingeniero.com/event/festival-agrupacio/
END:VEVENT
BEGIN:VEVENT
DTSTART;TZID=UTC:20221015T183000
DTEND;TZID=UTC:20221015T203000
DTSTAMP:20260420T232635
CREATED:20220925T102244Z
LAST-MODIFIED:20221010T075407Z
UID:15268-1665858600-1665865800@fallamalillaingeniero.com
SUMMARY:Despedida/merienda representantes infantiles 2022 Lucía y Joan
DESCRIPTION:
URL:https://fallamalillaingeniero.com/event/despedidas-representantes-2022/
END:VEVENT
BEGIN:VEVENT
DTSTART;TZID=UTC:20221015T213000
DTEND;TZID=UTC:20221015T233000
DTSTAMP:20260420T232635
CREATED:20221010T074727Z
LAST-MODIFIED:20221010T074727Z
UID:15288-1665869400-1665876600@fallamalillaingeniero.com
SUMMARY:Despedida/cena FM Maica 2022
DESCRIPTION:
URL:https://fallamalillaingeniero.com/event/despedida-cena-fm-maica-2022/
END:VEVENT
BEGIN:VEVENT
DTSTART;TZID=UTC:20221022T190000
DTEND;TZID=UTC:20221022T203000
DTSTAMP:20260420T232635
CREATED:20220925T102325Z
LAST-MODIFIED:20221016T175630Z
UID:15270-1666465200-1666470600@fallamalillaingeniero.com
SUMMARY:Proclamación/merienda FM Infantil 2023 Adriana
DESCRIPTION:
URL:https://fallamalillaingeniero.com/event/proclamaciones-representantes-2023/
END:VEVENT
BEGIN:VEVENT
DTSTART;TZID=UTC:20221022T213000
DTEND;TZID=UTC:20221022T233000
DTSTAMP:20260420T232635
CREATED:20221010T075025Z
LAST-MODIFIED:20221016T175529Z
UID:15292-1666474200-1666481400@fallamalillaingeniero.com
SUMMARY:Proclamación/Cena FM 2023 Judith
DESCRIPTION:
URL:https://fallamalillaingeniero.com/event/proclamacion-cena-fm-2023-judith/
END:VEVENT
BEGIN:VEVENT
DTSTART;TZID=UTC:20221031T190000
DTEND;TZID=UTC:20221031T235900
DTSTAMP:20260420T232635
CREATED:20221010T075142Z
LAST-MODIFIED:20221025T092655Z
UID:15294-1667242800-1667260740@fallamalillaingeniero.com
SUMMARY:Fiesta de Halloween\, merienda/cena para infantiles y cena comisión mayor
DESCRIPTION:Halloween 2022\n  \n\n– Infantiles a las 19:00 para ir por el barrio todos disfrazados de Halloweeny haremos nuestro truco trato….\, para ello tenéis que dar muuuuchooo miedoooo\, asiii cuanto más miedo más cosas nos darán!!!\nDespués iremos a la falla\, haremos un desfile porque los disfraces van a concurso\, y nuestra querida FMI Adriana\, votará los que más mieditoooo dan. Luego\, cenaremos\, sobre las 20:30\, y a mover los esqueletos en el terrorífico baile de la noche de los muertos vivientes….\, jajajaajajajaja…..!!!\n– Mayores: a las 21:30h. podrá visitarse nuestro Pasaje del terror.\nA las 22:00h. cena de sobaquillo\, 3€ falleros y 6€ no falleros.\nLos falleros disfrazados tendrán una copa gratis.\n\nLa barra permanecerá abierta desde las 19h.
URL:https://fallamalillaingeniero.com/event/fiesta-de-halloween-merienda-cena-para-infantiles-y-cena-comision-mayor/
END:VEVENT
END:VCALENDAR