BEGIN:VCALENDAR
VERSION:2.0
PRODID:-//Web de la Asociación Cultural Falla Carrera Malilla Ingeniero Joaquín Benlloch - ECPv6.15.14//NONSGML v1.0//EN
CALSCALE:GREGORIAN
METHOD:PUBLISH
X-ORIGINAL-URL:https://fallamalillaingeniero.com
X-WR-CALDESC:Eventos para Web de la Asociación Cultural Falla Carrera Malilla Ingeniero Joaquín Benlloch
REFRESH-INTERVAL;VALUE=DURATION:PT1H
X-Robots-Tag:noindex
X-PUBLISHED-TTL:PT1H
BEGIN:VTIMEZONE
TZID:UTC
BEGIN:STANDARD
TZOFFSETFROM:+0000
TZOFFSETTO:+0000
TZNAME:UTC
DTSTART:20210101T000000
END:STANDARD
END:VTIMEZONE
BEGIN:VEVENT
DTSTART;TZID=UTC:20221105T103000
DTEND;TZID=UTC:20221105T200000
DTSTAMP:20260420T214446
CREATED:20221025T092345Z
LAST-MODIFIED:20221025T092345Z
UID:15372-1667644200-1667678400@fallamalillaingeniero.com
SUMMARY:IV Edición mercadillo de ropa y complementos falleros nuevos y seminuevos.
DESCRIPTION:
URL:https://fallamalillaingeniero.com/event/iv-edicion-mercadillo-de-ropa-y-complementos-falleros-nuevos-y-seminuevos/
END:VEVENT
BEGIN:VEVENT
DTSTART;TZID=UTC:20221115T213000
DTEND;TZID=UTC:20221115T233000
DTSTAMP:20260420T214446
CREATED:20220925T102616Z
LAST-MODIFIED:20221101T104836Z
UID:15272-1668547800-1668555000@fallamalillaingeniero.com
SUMMARY:Concurso de teatro.
DESCRIPTION:
URL:https://fallamalillaingeniero.com/event/concurso-de-teatro/
LOCATION:Sala Flumen\, Carrer de Gregori Gea\, 15\, Valencia
END:VEVENT
BEGIN:VEVENT
DTSTART;TZID=UTC:20221119T140000
DTEND;TZID=UTC:20221119T160000
DTSTAMP:20260420T214446
CREATED:20221101T110325Z
LAST-MODIFIED:20221101T110325Z
UID:15394-1668866400-1668873600@fallamalillaingeniero.com
SUMMARY:Fun Jump Agrupació Quatre Carreres
DESCRIPTION:
URL:https://fallamalillaingeniero.com/event/fun-jump-agrupacio-quatre-carreres/
LOCATION:Fun Jump
END:VEVENT
BEGIN:VEVENT
DTSTART;TZID=UTC:20221119T180000
DTEND;TZID=UTC:20221119T200000
DTSTAMP:20260420T214446
CREATED:20221113T211835Z
LAST-MODIFIED:20221113T211835Z
UID:15430-1668880800-1668888000@fallamalillaingeniero.com
SUMMARY:Tarde juegos de mesa y merienda infantiles.
DESCRIPTION:Tarde juegos mesa 2022
URL:https://fallamalillaingeniero.com/event/tarde-juegos-de-mesa-y-merienda-infantiles/
END:VEVENT
BEGIN:VEVENT
DTSTART;TZID=UTC:20221120T103000
DTEND;TZID=UTC:20221120T130000
DTSTAMP:20260420T214446
CREATED:20221103T111752Z
LAST-MODIFIED:20221118T220713Z
UID:15404-1668940200-1668949200@fallamalillaingeniero.com
SUMMARY:Balls al Carrer. Plaza la Virgen
DESCRIPTION:
URL:https://fallamalillaingeniero.com/event/balls-al-carrer/
LOCATION:Plaza de la Virgen
END:VEVENT
BEGIN:VEVENT
DTSTART;TZID=UTC:20221120T183000
DTEND;TZID=UTC:20221120T200000
DTSTAMP:20260420T214446
CREATED:20221103T111834Z
LAST-MODIFIED:20221118T220559Z
UID:15407-1668969000-1668974400@fallamalillaingeniero.com
SUMMARY:Presentación de bocetos.
DESCRIPTION:
URL:https://fallamalillaingeniero.com/event/presentacion-de-bocetos/
END:VEVENT
BEGIN:VEVENT
DTSTART;TZID=UTC:20221125T213000
DTEND;TZID=UTC:20221125T233000
DTSTAMP:20260420T214446
CREATED:20221123T223120Z
LAST-MODIFIED:20221123T223120Z
UID:15469-1669411800-1669419000@fallamalillaingeniero.com
SUMMARY:Cena y Junta General
DESCRIPTION:Por la presente se convoca en el casal de la Falla la Junta General\, para el próximo viernes día 25 de noviembre de 2022 a las 22:00 horas en primera convocatoria y a las 22:30 horas en segunda convocatoria. \nOrden del día: \n\nAPROBACIÓN ACTA ANTERIOR\nINFORME PRESIDENCIA\nRUEGOS Y PREGUNTAS\n\n\nA esta convocatoria se adjunta el acta de la junta anterior para su aprobación en el primer punto del orden del día.\nSe recuerda que la cena comenzará a las 21:30 horas.
URL:https://fallamalillaingeniero.com/event/cena-y-junta-general/
LOCATION:Casal
END:VEVENT
BEGIN:VEVENT
DTSTART;VALUE=DATE:20221126
DTEND;VALUE=DATE:20221127
DTSTAMP:20260420T214446
CREATED:20221010T075245Z
LAST-MODIFIED:20221010T075245Z
UID:15296-1669420800-1669507199@fallamalillaingeniero.com
SUMMARY:Visita talleres Pirotecnia del Mediterráneo.
DESCRIPTION:Fecha tope para apuntarse el 15 de Noviembre
URL:https://fallamalillaingeniero.com/event/visita-talleres-pirotecnia-del-mediterraneo/
END:VEVENT
END:VCALENDAR