BEGIN:VCALENDAR
VERSION:2.0
PRODID:-//Web de la Asociación Cultural Falla Carrera Malilla Ingeniero Joaquín Benlloch - ECPv6.15.14//NONSGML v1.0//EN
CALSCALE:GREGORIAN
METHOD:PUBLISH
X-WR-CALNAME:Web de la Asociación Cultural Falla Carrera Malilla Ingeniero Joaquín Benlloch
X-ORIGINAL-URL:https://fallamalillaingeniero.com
X-WR-CALDESC:Eventos para Web de la Asociación Cultural Falla Carrera Malilla Ingeniero Joaquín Benlloch
REFRESH-INTERVAL;VALUE=DURATION:PT1H
X-Robots-Tag:noindex
X-PUBLISHED-TTL:PT1H
BEGIN:VTIMEZONE
TZID:UTC
BEGIN:STANDARD
TZOFFSETFROM:+0000
TZOFFSETTO:+0000
TZNAME:UTC
DTSTART:20220101T000000
END:STANDARD
END:VTIMEZONE
BEGIN:VEVENT
DTSTART;TZID=UTC:20230103T090000
DTEND;TZID=UTC:20230103T123000
DTSTAMP:20260420T184406
CREATED:20221204T220811Z
LAST-MODIFIED:20221204T220811Z
UID:15502-1672736400-1672749000@fallamalillaingeniero.com
SUMMARY:Excursión a la Fabrica de Chocolate en tren.
DESCRIPTION:Oleeeeee aventura…..\, que nos vamos en tren !!\n\nDesde la Estación del Norte saldrá nuestro tren a las 9:40\, quedaremos allí a las 9:20 con nuestros almuerzos\, nada más llegar a Sueca y antes de entrar a la fábrica\, haremos un Picnic y a las 11:00 nos enseñaran toda la fábrica\, como se hacen los chocolates \, se embalan….\, nos vamos hacer expertos !!\n\nLa entrada a la fábrica cuesta 3€ los adultos\, 2€ adolescentes (14-18 años) y 1\,5€ los niños (a partir de 2 años).\n\nEl billete ida-vuelta es:\nMenores de 6 años gratis\nDe 6 a 11 años…. 3\,70€\nDe 12 años o más…………. 4\,50€.\nOs tenéis que apuntar y pagarlo en la falla el 13 de diciembre o poneros en contacto con Antonia (616632699).\n\nOs recomendamos llevar las prendas oficiales de la falla.
URL:https://fallamalillaingeniero.com/event/excursion-a-la-fabrica-de-chocolate-en-tren/
END:VEVENT
BEGIN:VEVENT
DTSTART;TZID=UTC:20230104T180000
DTEND;TZID=UTC:20230104T200000
DTSTAMP:20260420T184406
CREATED:20221204T220334Z
LAST-MODIFIED:20221204T220334Z
UID:15498-1672855200-1672862400@fallamalillaingeniero.com
SUMMARY:Fluor Party por la Agrupación Quatre Carreres
DESCRIPTION:El día 4 de enero 2023\, en la Falla Obispo Jaime Pérez\, la agrupación celebra esta fiesta para todos vosotros y estáis todos invitados\, será a las 18:00. Pondremos una hoja en la falla para que os vayáis apuntando o nos avisáis.
URL:https://fallamalillaingeniero.com/event/fluor-party-por-la-agrupacion-quatre-carreres/
END:VEVENT
BEGIN:VEVENT
DTSTART;TZID=UTC:20230105T180000
DTEND;TZID=UTC:20230105T200000
DTSTAMP:20260420T184406
CREATED:20221204T220548Z
LAST-MODIFIED:20221204T220548Z
UID:15500-1672941600-1672948800@fallamalillaingeniero.com
SUMMARY:Cabalgata Reyes Magos
DESCRIPTION:El día 5 de enero a las 18:00 dará comienzo nuestra tradicional cabalgata de Reyes\nY luego tendremos sorpresas en nuestro casal.
URL:https://fallamalillaingeniero.com/event/cabalgata-reyes-magos/
END:VEVENT
BEGIN:VEVENT
DTSTART;TZID=UTC:20230120T220000
DTEND;TZID=UTC:20230120T235900
DTSTAMP:20260420T184406
CREATED:20221103T112116Z
LAST-MODIFIED:20230114T190244Z
UID:15409-1674252000-1674259140@fallamalillaingeniero.com
SUMMARY:Presentación Mayor 2023 Judith Elena Noguera Martínez
DESCRIPTION:El 20 de Enero\, las 22h en la Sala Canal (Pinedo) será la exaltación de nuestra Fallera Mayor 2023\, la señorita\, Judith Elena Noguera Martínez.\n\n\nComo cada año\, nuestra presentación participa en el concurso de presentaciones que organiza Junta Central Fallera y este año llevará el título de “LA VIDA ES TEATRE”\, escrita y dirigida por David Porta Serrano.\n\n\nAbriremos las puertas a las 21.30h \, por ello\, pedimos puntualidad y que entréis antes del comienzo del acto para no molestar durante la representación de la obra.
URL:https://fallamalillaingeniero.com/event/presentacion-mayor-2/
END:VEVENT
BEGIN:VEVENT
DTSTART;TZID=UTC:20230127T213000
DTEND;TZID=UTC:20230127T233000
DTSTAMP:20260420T184406
CREATED:20230125T155002Z
LAST-MODIFIED:20230125T155002Z
UID:15572-1674855000-1674862200@fallamalillaingeniero.com
SUMMARY:Junta General
DESCRIPTION:Junta General\, para el próximo viernes día 27 de enero de 2023 a las 22:00 horas en primera convocatoria y a las 22:30 horas en segunda convocatoria. \nOrden del día: \n\nAPROBACIÓN ACTA ANTERIOR\nINFORME PRESIDENCIA\nRUEGOS Y PREGUNTAS\n\n\nSe recuerda\, que como se informó en la pasada junta general\, hay de plazo hasta el día 27 de enero de 2023 para apuntarse a los Falleros de Honor\, mandando un correo electrónico a secretaria.\n\n\nSe recuerda que la cena comenzará a las 21:30 horas.
URL:https://fallamalillaingeniero.com/event/junta-general-2/
END:VEVENT
BEGIN:VEVENT
DTSTART;TZID=UTC:20230128T093000
DTEND;TZID=UTC:20230128T123000
DTSTAMP:20260420T184406
CREATED:20230125T154658Z
LAST-MODIFIED:20230125T154658Z
UID:15568-1674898200-1674909000@fallamalillaingeniero.com
SUMMARY:Visita Falla grande 2023
DESCRIPTION:¡Nos vamos a visitar nuestra falla grande!Estamos tremendamente ilusionados de poder ir al taller de @fallasfermarzo a ver un adelanto de lo que podremos disfrutar en Marzo en nuestro cruce.Por ello quedaremos a las 09:30h en el casal con nuestras prendas oficiales y acudiremos hasta la Ciudad del Artista Fallero (C/ Vicente Canet\, nave 19) para pasar una buena mañana juntos.¡Os esperamos!
URL:https://fallamalillaingeniero.com/event/visita-falla-grande-2023/
END:VEVENT
BEGIN:VEVENT
DTSTART;TZID=UTC:20230128T180000
DTEND;TZID=UTC:20230128T200000
DTSTAMP:20260420T184406
CREATED:20230125T154806Z
LAST-MODIFIED:20230125T154806Z
UID:15570-1674928800-1674936000@fallamalillaingeniero.com
SUMMARY:Tardeo Remember
DESCRIPTION:¡TARDEO REMEMBER! 🎧¡Atención FALLEROS Y FALLERAS! El próximo sábado 28 de Enero\, a partir de las 18:00h\, tendremos un TARDEO con la mejor música de los 90’s-2000.No faltéis\, pasaremos lista! 😜
URL:https://fallamalillaingeniero.com/event/tardeo-remember/
LOCATION:Casal
END:VEVENT
BEGIN:VEVENT
DTSTART;TZID=UTC:20230129T123000
DTEND;TZID=UTC:20230129T140000
DTSTAMP:20260420T184406
CREATED:20230125T162229Z
LAST-MODIFIED:20230125T162229Z
UID:15575-1674995400-1675000800@fallamalillaingeniero.com
SUMMARY:Dançà de l´Agrupació
DESCRIPTION:Dança Agrupacio 2023\nApunta a l’agenda…\nEste diumenge 29 de Gener a les 13 hores a la Plaça de l’esglèsia de Santa Cecilia\, tradicional dançà de l’agrupació.\nLa concentració dels grups de balls i colles de tabal i dolçaina será a les 12:30 hores.
URL:https://fallamalillaingeniero.com/event/danca-de-lagrupacio/
END:VEVENT
END:VCALENDAR