BEGIN:VCALENDAR
VERSION:2.0
PRODID:-//Web de la Asociación Cultural Falla Carrera Malilla Ingeniero Joaquín Benlloch - ECPv6.15.14//NONSGML v1.0//EN
CALSCALE:GREGORIAN
METHOD:PUBLISH
X-WR-CALNAME:Web de la Asociación Cultural Falla Carrera Malilla Ingeniero Joaquín Benlloch
X-ORIGINAL-URL:https://fallamalillaingeniero.com
X-WR-CALDESC:Eventos para Web de la Asociación Cultural Falla Carrera Malilla Ingeniero Joaquín Benlloch
REFRESH-INTERVAL;VALUE=DURATION:PT1H
X-Robots-Tag:noindex
X-PUBLISHED-TTL:PT1H
BEGIN:VTIMEZONE
TZID:UTC
BEGIN:STANDARD
TZOFFSETFROM:+0000
TZOFFSETTO:+0000
TZNAME:UTC
DTSTART:20220101T000000
END:STANDARD
END:VTIMEZONE
BEGIN:VEVENT
DTSTART;TZID=UTC:20230304T180000
DTEND;TZID=UTC:20230304T233000
DTSTAMP:20260420T154954
CREATED:20230224T184849Z
LAST-MODIFIED:20230228T193758Z
UID:15792-1677952800-1677972600@fallamalillaingeniero.com
SUMMARY:Pregó 2023
DESCRIPTION:El próximo sábado 4 de Marzo celebraremos nuestro tradicional “PREGÓ” y así anunciar a todo el barrio que estamos en fallas!\n\nEmpezaremos a las 18:00h con el pasacalles y al acabar tendremos la barra abierta para seguir la fiesta todos juntos.\nInfantiles : Al terminar el Pregó concurso para infantiles\, con premios para 3 categorías: \n            1-Disfraz más original.\n            2-Mejor disfraz individual.\n            3-Mejor disfraz de grupo.\n\nA las 21:00h cena para INFANTILES ofrecida por la Falla (todos aquellos que vayáis a venir a la cena y tengáis alguna alergia o intolerancia alimentaria\, poneros en contacto con nosotras por privado al 616632699). La cena terminará a las 22:00h máximo.\ny a las 22:00h cena de `sobaquillo’ para los mayores.\nCuando acabemos de cenar seguirá la fiesta y todo aquel que continúe completamente disfrazado tendrá una consumición GRATIS!\n\nYa no queda nada para ver esos disfraces tan divertidos!
URL:https://fallamalillaingeniero.com/event/prego-2023/
END:VEVENT
BEGIN:VEVENT
DTSTART;TZID=UTC:20230305T113000
DTEND;TZID=UTC:20230305T140000
DTSTAMP:20260420T154954
CREATED:20230224T185123Z
LAST-MODIFIED:20230228T194812Z
UID:15796-1678015800-1678024800@fallamalillaingeniero.com
SUMMARY:Concurso paellas\, postres y delantales infantiles
DESCRIPTION:Domingo 5 de marzo: Concurso de PAELLAS INFANTILES\, Concurso de DELANTALES y Concurso de POSTRES que no necesiten frigorífico. De 11:30 a 14. \nPondremos un listado en el casal (fecha tope para apuntarse 28 de febrero). Máximo 10 niñ@s por paella.
URL:https://fallamalillaingeniero.com/event/concurso-paellas-postres-y-delantales-infantiles/
END:VEVENT
BEGIN:VEVENT
DTSTART;TZID=UTC:20230311T100000
DTEND;TZID=UTC:20230311T120000
DTSTAMP:20260420T154954
CREATED:20230309T203156Z
LAST-MODIFIED:20230309T203203Z
UID:15847-1678528800-1678536000@fallamalillaingeniero.com
SUMMARY:Visita Exposición del Ninot
DESCRIPTION:Sábado 11 de Marzo\, iremos a las EXPOSICIÓN DEL NINOT\, saldremos a las 10:00 desde el casal\, acompañados de un adulto y el que acuda allí directamente nos vemos a las 11:00 en la puerta principal\, (acordaros de venir con las prendas oficiales).
URL:https://fallamalillaingeniero.com/event/visita-exposicion-del-ninot/
END:VEVENT
BEGIN:VEVENT
DTSTART;TZID=UTC:20230311T220000
DTEND;TZID=UTC:20230311T230000
DTSTAMP:20260420T154954
CREATED:20230309T202809Z
LAST-MODIFIED:20230309T202809Z
UID:15841-1678572000-1678575600@fallamalillaingeniero.com
SUMMARY:Cena de sobaquillo
DESCRIPTION:
URL:https://fallamalillaingeniero.com/event/cena-de-sobaquillo/
END:VEVENT
BEGIN:VEVENT
DTSTART;TZID=UTC:20230311T235900
DTEND;TZID=UTC:20230312T235900
DTSTAMP:20260420T154954
CREATED:20230309T202925Z
LAST-MODIFIED:20230309T202925Z
UID:15843-1678579140-1678665540@fallamalillaingeniero.com
SUMMARY:Verbena Orquesta Montesol
DESCRIPTION:Montesol 2023
URL:https://fallamalillaingeniero.com/event/verbena-orquesta-montesol/
END:VEVENT
BEGIN:VEVENT
DTSTART;TZID=UTC:20230312T120000
DTEND;TZID=UTC:20230312T140000
DTSTAMP:20260420T154954
CREATED:20230309T202653Z
LAST-MODIFIED:20230309T202653Z
UID:15839-1678622400-1678629600@fallamalillaingeniero.com
SUMMARY:Concurso Genialidades
DESCRIPTION:genialidades 2023
URL:https://fallamalillaingeniero.com/event/concurso-genialidades/
END:VEVENT
BEGIN:VEVENT
DTSTART;TZID=UTC:20230312T120000
DTEND;TZID=UTC:20230312T143000
DTSTAMP:20260420T154954
CREATED:20230309T203021Z
LAST-MODIFIED:20230309T203021Z
UID:15845-1678622400-1678631400@fallamalillaingeniero.com
SUMMARY:Concurso paellas.
DESCRIPTION:Concurso paellas 2023
URL:https://fallamalillaingeniero.com/event/concurso-paellas-2/
END:VEVENT
BEGIN:VEVENT
DTSTART;TZID=UTC:20230314T183000
DTEND;TZID=UTC:20230314T230000
DTSTAMP:20260420T154954
CREATED:20230314T005900Z
LAST-MODIFIED:20230314T005900Z
UID:15884-1678818600-1678834800@fallamalillaingeniero.com
SUMMARY:Recogida ninot infantil. Cena de la Plantá Infantil y entrega de recompensas
DESCRIPTION:  14 de marzo:\n\n\n18:30h. concentración en la carpa para acompañar a Adriana a recoger el ninot Infantil. Recordad este año hay que llevar un detalle de color azul.\n\n\n20:30h. cena de la Plantá Infantil\, ofrecido por nuestra Fallera Mayor Infantil Adriana.\n\n\nA continuación se hará entrega de las recompensas otorgadas por JCF.\n\n\nY terminaremos de plantar nuestra falla infantil «Deiseu-nos ser xiquets i xiquetes»\, guiados por el Estudio Quemadera y los artistas Victor Visa y Javier García.
URL:https://fallamalillaingeniero.com/event/recogida-ninot-infantil-cena-de-la-planta-infantil-y-entrega-de-recompensas/
END:VEVENT
BEGIN:VEVENT
DTSTART;TZID=UTC:20230315T103000
DTEND;TZID=UTC:20230315T130000
DTSTAMP:20260420T154954
CREATED:20230314T010137Z
LAST-MODIFIED:20230314T010137Z
UID:15886-1678876200-1678885200@fallamalillaingeniero.com
SUMMARY:Juegos y almuerzo para infantiles ofrecidos por nuestra FMI Adriana
DESCRIPTION:Gymkana pirata: A través de un tablero de juegos\, viviremos la búsqueda del tesoro\, llena de pruebas a superar\, juegos en equipo\, juegos musicales\, enigmas y mucha\, mucha diversión. \n¿Quiéres convertirte en un pirata?
URL:https://fallamalillaingeniero.com/event/juegos-y-almuerzo-para-infantiles-ofrecidos-por-nuestra-fmi-adriana/
END:VEVENT
BEGIN:VEVENT
DTSTART;TZID=UTC:20230315T173000
DTEND;TZID=UTC:20230315T235900
DTSTAMP:20260420T154954
CREATED:20230314T010521Z
LAST-MODIFIED:20230314T010630Z
UID:15888-1678901400-1678924740@fallamalillaingeniero.com
SUMMARY:Recogida ninot\, cena de la Plantá ofrecida por nuestra FM Judith y entrega de recompensas.
DESCRIPTION:17:30 h. Concentración Comisión Mayor para acompañar a Judith a la recogida del ninot\, con nuestro grupo de tabals y dolçainas «Mal de Cap».\n21:30 h. Cena de la plantá Mayor ofrecida por nuestra FM Judith Elena Noguera Martínez.\nAl finalizar entrega de recompensas otorgadas por JCF a miembros de nuestra Comisión.\nTerminaremos de plantar la Falla «Encantaments» bajo la atenta mirada de nuestro artista\, Fernando Marzo Dasí.
URL:https://fallamalillaingeniero.com/event/recogida-ninot-cena-de-la-planta-ofrecida-por-nuestra-fm-judith-y-entrega-de-recompensas/
END:VEVENT
BEGIN:VEVENT
DTSTART;TZID=UTC:20230316T003000
DTEND;TZID=UTC:20230316T013000
DTSTAMP:20260420T154954
CREATED:20230314T011141Z
LAST-MODIFIED:20230314T011141Z
UID:15891-1678926600-1678930200@fallamalillaingeniero.com
SUMMARY:Mascletá nocturna
DESCRIPTION:
URL:https://fallamalillaingeniero.com/event/mascleta-nocturna/
END:VEVENT
BEGIN:VEVENT
DTSTART;TZID=UTC:20230316T100000
DTEND;TZID=UTC:20230316T110000
DTSTAMP:20260420T154954
CREATED:20230314T011238Z
LAST-MODIFIED:20230314T011238Z
UID:15893-1678960800-1678964400@fallamalillaingeniero.com
SUMMARY:Almuerzo Comisión Mayor e Infantil
DESCRIPTION:
URL:https://fallamalillaingeniero.com/event/almuerzo-comision-mayor-e-infantil/
END:VEVENT
BEGIN:VEVENT
DTSTART;TZID=UTC:20230316T113000
DTEND;TZID=UTC:20230316T123000
DTSTAMP:20260420T154954
CREATED:20230314T004505Z
LAST-MODIFIED:20230314T004505Z
UID:15878-1678966200-1678969800@fallamalillaingeniero.com
SUMMARY:Zumba para todas las edades con Patricia del Rio.
DESCRIPTION:Zumba 2023
URL:https://fallamalillaingeniero.com/event/zumba-para-todas-las-edades-con-patricia-del-rio/
END:VEVENT
BEGIN:VEVENT
DTSTART;TZID=UTC:20230316T123000
DTEND;TZID=UTC:20230316T130000
DTSTAMP:20260420T154954
CREATED:20230314T011409Z
LAST-MODIFIED:20230314T011409Z
UID:15896-1678969800-1678971600@fallamalillaingeniero.com
SUMMARY:Cohetá infantil con bombetas
DESCRIPTION:Los niños tienen que venir acompañados por algún responsable adulto y la autorización firmada.
URL:https://fallamalillaingeniero.com/event/coheta-infantil-con-bombetas/
END:VEVENT
BEGIN:VEVENT
DTSTART;TZID=UTC:20230316T130000
DTEND;TZID=UTC:20230316T140000
DTSTAMP:20260420T154954
CREATED:20230314T011452Z
LAST-MODIFIED:20230314T011452Z
UID:15898-1678971600-1678975200@fallamalillaingeniero.com
SUMMARY:Cohetá
DESCRIPTION:
URL:https://fallamalillaingeniero.com/event/coheta/
END:VEVENT
BEGIN:VEVENT
DTSTART;TZID=UTC:20230316T140000
DTEND;TZID=UTC:20230316T153000
DTSTAMP:20260420T154954
CREATED:20230314T011550Z
LAST-MODIFIED:20230314T011550Z
UID:15900-1678975200-1678980600@fallamalillaingeniero.com
SUMMARY:Comida Comisión Mayor
DESCRIPTION:
URL:https://fallamalillaingeniero.com/event/comida-comision-mayor-2/
END:VEVENT
BEGIN:VEVENT
DTSTART;TZID=UTC:20230316T170000
DTEND;TZID=UTC:20230316T193000
DTSTAMP:20260420T154954
CREATED:20230314T011712Z
LAST-MODIFIED:20230314T011712Z
UID:15902-1678986000-1678995000@fallamalillaingeniero.com
SUMMARY:Concentración recogida premios Comisión Infantil.
DESCRIPTION:
URL:https://fallamalillaingeniero.com/event/concentracion-recogida-premios-comision-infantil/
END:VEVENT
BEGIN:VEVENT
DTSTART;TZID=UTC:20230316T200000
DTEND;TZID=UTC:20230316T210000
DTSTAMP:20260420T154954
CREATED:20230314T011750Z
LAST-MODIFIED:20230314T011750Z
UID:15904-1678996800-1679000400@fallamalillaingeniero.com
SUMMARY:Pasacalles nocturno
DESCRIPTION:
URL:https://fallamalillaingeniero.com/event/pasacalles-nocturno/
END:VEVENT
BEGIN:VEVENT
DTSTART;TZID=UTC:20230316T220000
DTEND;TZID=UTC:20230316T230000
DTSTAMP:20260420T154954
CREATED:20230314T011834Z
LAST-MODIFIED:20230314T011834Z
UID:15906-1679004000-1679007600@fallamalillaingeniero.com
SUMMARY:Cena sobaquillo para los mayores.
DESCRIPTION:
URL:https://fallamalillaingeniero.com/event/cena-sobaquillo-para-los-mayores/
END:VEVENT
BEGIN:VEVENT
DTSTART;TZID=UTC:20230316T235900
DTEND;TZID=UTC:20230317T040000
DTSTAMP:20260420T154954
CREATED:20230313T115650Z
LAST-MODIFIED:20230313T115650Z
UID:15861-1679011140-1679025600@fallamalillaingeniero.com
SUMMARY:Dj Antonio Wish
DESCRIPTION:DJ Antonio Wish
URL:https://fallamalillaingeniero.com/event/dj-antonio-wish/
END:VEVENT
BEGIN:VEVENT
DTSTART;VALUE=DATE:20230317
DTEND;VALUE=DATE:20230318
DTSTAMP:20260420T154954
CREATED:20230314T012303Z
LAST-MODIFIED:20230314T012303Z
UID:15912-1679011200-1679097599@fallamalillaingeniero.com
SUMMARY:Actividades 17 de marzo
DESCRIPTION:Resumen actividades 2023
URL:https://fallamalillaingeniero.com/event/actividades-17-de-marzo/
END:VEVENT
BEGIN:VEVENT
DTSTART;TZID=UTC:20230317T235900
DTEND;TZID=UTC:20230318T040000
DTSTAMP:20260420T154954
CREATED:20230313T115104Z
LAST-MODIFIED:20230313T115104Z
UID:15853-1679097540-1679112000@fallamalillaingeniero.com
SUMMARY:Dj Ella pincha sola
DESCRIPTION:Ella pincha sola
URL:https://fallamalillaingeniero.com/event/dj-ella-pincha-sola-2/
END:VEVENT
BEGIN:VEVENT
DTSTART;VALUE=DATE:20230318
DTEND;VALUE=DATE:20230319
DTSTAMP:20260420T154954
CREATED:20230314T012331Z
LAST-MODIFIED:20230314T012331Z
UID:15914-1679097600-1679183999@fallamalillaingeniero.com
SUMMARY:Actividades 18 de marzo
DESCRIPTION:Resumen actividades 2023
URL:https://fallamalillaingeniero.com/event/actividades-18-de-marzo/
END:VEVENT
BEGIN:VEVENT
DTSTART;TZID=UTC:20230318T233000
DTEND;TZID=UTC:20230319T040000
DTSTAMP:20260420T154954
CREATED:20230314T002903Z
LAST-MODIFIED:20230314T002903Z
UID:15869-1679182200-1679198400@fallamalillaingeniero.com
SUMMARY:La Bèstia Party
DESCRIPTION:Bestia party
URL:https://fallamalillaingeniero.com/event/la-bestia-party/
END:VEVENT
BEGIN:VEVENT
DTSTART;VALUE=DATE:20230319
DTEND;VALUE=DATE:20230320
DTSTAMP:20260420T154954
CREATED:20230314T012050Z
LAST-MODIFIED:20230314T012130Z
UID:15908-1679184000-1679270399@fallamalillaingeniero.com
SUMMARY:Actividades día 19 de marzo
DESCRIPTION:Resumen actividades 2023
URL:https://fallamalillaingeniero.com/event/actividades-dia-17-de-marzo/
END:VEVENT
END:VCALENDAR