BEGIN:VCALENDAR
VERSION:2.0
PRODID:-//Web de la Asociación Cultural Falla Carrera Malilla Ingeniero Joaquín Benlloch - ECPv6.15.14//NONSGML v1.0//EN
CALSCALE:GREGORIAN
METHOD:PUBLISH
X-ORIGINAL-URL:https://fallamalillaingeniero.com
X-WR-CALDESC:Eventos para Web de la Asociación Cultural Falla Carrera Malilla Ingeniero Joaquín Benlloch
REFRESH-INTERVAL;VALUE=DURATION:PT1H
X-Robots-Tag:noindex
X-PUBLISHED-TTL:PT1H
BEGIN:VTIMEZONE
TZID:UTC
BEGIN:STANDARD
TZOFFSETFROM:+0000
TZOFFSETTO:+0000
TZNAME:UTC
DTSTART:20220101T000000
END:STANDARD
END:VTIMEZONE
BEGIN:VEVENT
DTSTART;TZID=UTC:20231001T180000
DTEND;TZID=UTC:20231001T230000
DTSTAMP:20260420T060140
CREATED:20230924T183209Z
LAST-MODIFIED:20230924T183209Z
UID:16244-1696183200-1696201200@fallamalillaingeniero.com
SUMMARY:Despedida Falleras Mayores 2023
DESCRIPTION:Todo lo que tiene un principio\, tiene un final.El domingo 1 de Octubre\, a las 18:00h en nuestro casal\, llega el momento de cerrar un ciclo para poder abrir otro nuevo.Os esperamos a todos para despedirles como se merecen y agradecer todo lo que han hecho durante este año.Es el momento de pasar a formar parte de la historia de nuestra comisión y escribir sus nombres con letras de oro.Gracias 2023\, hasta siempre!
URL:https://fallamalillaingeniero.com/event/despedida-falleras-mayores-2023/
END:VEVENT
BEGIN:VEVENT
DTSTART;TZID=UTC:20231014T183000
DTEND;TZID=UTC:20231014T200000
DTSTAMP:20260420T060140
CREATED:20231011T094529Z
LAST-MODIFIED:20231011T094529Z
UID:16265-1697308200-1697313600@fallamalillaingeniero.com
SUMMARY:Proclamación Infantil 2024
DESCRIPTION:A las 18:30h habrá una merienda para nuestra comisión infantil y seguidamente daremos paso al acto de proclamación de nuestra Fallera Mayor Infantil y nuestro Presidente Infantil.
URL:https://fallamalillaingeniero.com/event/proclamacion-infantil-2024/
END:VEVENT
BEGIN:VEVENT
DTSTART;TZID=UTC:20231014T213000
DTEND;TZID=UTC:20231014T233000
DTSTAMP:20260420T060140
CREATED:20231011T094919Z
LAST-MODIFIED:20231011T094919Z
UID:16269-1697319000-1697326200@fallamalillaingeniero.com
SUMMARY:Proclamación Mayor 2024
DESCRIPTION:A las 21:30 empieza la cena de sobaquillo para la comisión mayor y acto después daremos inicio al sueño de nuestra Fallera Mayor 2024
URL:https://fallamalillaingeniero.com/event/proclamacion-mayor-2024/
END:VEVENT
BEGIN:VEVENT
DTSTART;TZID=UTC:20231027T220000
DTEND;TZID=UTC:20231027T233000
DTSTAMP:20260420T060140
CREATED:20231023T185041Z
LAST-MODIFIED:20231023T185041Z
UID:16307-1698444000-1698449400@fallamalillaingeniero.com
SUMMARY:JUNTA GENERAL
DESCRIPTION:CONVOCATORIA DE JUNTA GENERAL DEL DÍA 27 DE OCTUBRE DE 2023  \nSe convoca en el Casal de la Falla para celebrar la Junta General\, el próximo Viernes día 27 de octubre de 2023 a las 22:00 horas en primera convocatoria y a las 22:30 horas en segunda convocatoria\, con el siguiente orden del día:  \n1.    APROBACIÓN ACTA ANTERIOR \n2.    CESIÓN CASAL \n3.  INFORME DE PRESIDENCIA \n     – Informe actos octubre y noviembre. \n     – Actos Agrupación. \n     – Información sobre la propuesta de una vitrina para los corbatines. \n      – Otros temas \n4.    RUEGOS Y PREGUNTAS \n  \n\n\n· A esta convocatoria se adjunta el acta de la junta anterior para su aprobación en el primer punto del orden del día.\n\n\n· Se recuerda que la cena comenzará a las 21:30 horas.
URL:https://fallamalillaingeniero.com/event/junta-general-5/
END:VEVENT
BEGIN:VEVENT
DTSTART;TZID=UTC:20231031T180000
DTEND;TZID=UTC:20231031T233000
DTSTAMP:20260420T060140
CREATED:20231023T184430Z
LAST-MODIFIED:20231023T184812Z
UID:16303-1698775200-1698795000@fallamalillaingeniero.com
SUMMARY:Fiesta del Terror
DESCRIPTION:
URL:https://fallamalillaingeniero.com/event/16303/
END:VEVENT
END:VCALENDAR