BEGIN:VCALENDAR
VERSION:2.0
PRODID:-//Web de la Asociación Cultural Falla Carrera Malilla Ingeniero Joaquín Benlloch - ECPv6.15.14//NONSGML v1.0//EN
CALSCALE:GREGORIAN
METHOD:PUBLISH
X-WR-CALNAME:Web de la Asociación Cultural Falla Carrera Malilla Ingeniero Joaquín Benlloch
X-ORIGINAL-URL:https://fallamalillaingeniero.com
X-WR-CALDESC:Eventos para Web de la Asociación Cultural Falla Carrera Malilla Ingeniero Joaquín Benlloch
REFRESH-INTERVAL;VALUE=DURATION:PT1H
X-Robots-Tag:noindex
X-PUBLISHED-TTL:PT1H
BEGIN:VTIMEZONE
TZID:UTC
BEGIN:STANDARD
TZOFFSETFROM:+0000
TZOFFSETTO:+0000
TZNAME:UTC
DTSTART:20220101T000000
END:STANDARD
END:VTIMEZONE
BEGIN:VEVENT
DTSTART;TZID=UTC:20231118T180000
DTEND;TZID=UTC:20231118T233000
DTSTAMP:20260420T043018
CREATED:20231117T163135Z
LAST-MODIFIED:20231117T163135Z
UID:16332-1700330400-1700350200@fallamalillaingeniero.com
SUMMARY:Tardeo Remember
DESCRIPTION:Remember 2023
URL:https://fallamalillaingeniero.com/event/tardeo-remember-2/
END:VEVENT
BEGIN:VEVENT
DTSTART;TZID=UTC:20231119T183000
DTEND;TZID=UTC:20231119T200000
DTSTAMP:20260420T043018
CREATED:20231114T193050Z
LAST-MODIFIED:20231114T193050Z
UID:16321-1700418600-1700424000@fallamalillaingeniero.com
SUMMARY:Presentación de Bocetos Fallas 2024
DESCRIPTION:Bocetos 2024
URL:https://fallamalillaingeniero.com/event/presentacion-de-bocetos-fallas-2024/
LOCATION:Casal
END:VEVENT
BEGIN:VEVENT
DTSTART;TZID=UTC:20231123T213000
DTEND;TZID=UTC:20231123T233000
DTSTAMP:20260420T043018
CREATED:20231114T193450Z
LAST-MODIFIED:20231114T193450Z
UID:16323-1700775000-1700782200@fallamalillaingeniero.com
SUMMARY:L Concurs de Teatre JCF
DESCRIPTION:Concurso Teatro 2024
URL:https://fallamalillaingeniero.com/event/l-concurs-de-teatre-jcf/
LOCATION:Teatro Flumen\, C/ de Gregori Gea\, 15\, Valencia\, Valencia\, España
END:VEVENT
BEGIN:VEVENT
DTSTART;TZID=UTC:20231124T220000
DTEND;TZID=UTC:20231124T233000
DTSTAMP:20260420T043018
CREATED:20231121T195158Z
LAST-MODIFIED:20231121T195158Z
UID:16348-1700863200-1700868600@fallamalillaingeniero.com
SUMMARY:Junta General
DESCRIPTION:JUNTA GENERAL  24 DE NOVIEMBRE DE 2023  \nSe convoca en el Casal de la Falla para celebrar la Junta General\, el próximo Viernes día 24 de NOVIEMBRE de 2023 a las 22:00 horas en primera convocatoria y a las 22:30 horas en segunda convocatoria. \n\n\n\n· Se recuerda que la cena comenzará a las 21:30 horas.
URL:https://fallamalillaingeniero.com/event/junta-general-6/
END:VEVENT
BEGIN:VEVENT
DTSTART;TZID=UTC:20231126T103000
DTEND;TZID=UTC:20231126T130000
DTSTAMP:20260420T043018
CREATED:20231121T194903Z
LAST-MODIFIED:20231121T194903Z
UID:16345-1700994600-1701003600@fallamalillaingeniero.com
SUMMARY:Balls al Carrer
DESCRIPTION:Diumenge 26 de novembre.  Plaça del patriarca a partir de les 10:30h.
URL:https://fallamalillaingeniero.com/event/balls-al-carrer-2/
LOCATION:Plaza del Patriarca. Valencia\, Plaza del Patriarca\, Valencia\, valencia\, España
END:VEVENT
END:VCALENDAR