BEGIN:VCALENDAR
VERSION:2.0
PRODID:-//Web de la Asociación Cultural Falla Carrera Malilla Ingeniero Joaquín Benlloch - ECPv6.15.14//NONSGML v1.0//EN
CALSCALE:GREGORIAN
METHOD:PUBLISH
X-WR-CALNAME:Web de la Asociación Cultural Falla Carrera Malilla Ingeniero Joaquín Benlloch
X-ORIGINAL-URL:https://fallamalillaingeniero.com
X-WR-CALDESC:Eventos para Web de la Asociación Cultural Falla Carrera Malilla Ingeniero Joaquín Benlloch
REFRESH-INTERVAL;VALUE=DURATION:PT1H
X-Robots-Tag:noindex
X-PUBLISHED-TTL:PT1H
BEGIN:VTIMEZONE
TZID:UTC
BEGIN:STANDARD
TZOFFSETFROM:+0000
TZOFFSETTO:+0000
TZNAME:UTC
DTSTART:20230101T000000
END:STANDARD
END:VTIMEZONE
BEGIN:VEVENT
DTSTART;TZID=UTC:20240203T080000
DTEND;TZID=UTC:20240203T170000
DTSTAMP:20260420T000034
CREATED:20240110T170341Z
LAST-MODIFIED:20240110T170341Z
UID:16441-1706947200-1706979600@fallamalillaingeniero.com
SUMMARY:Visita Pirotécnica. Plazo para apuntarse hasta 27 de Enero en el Casal.
DESCRIPTION:Visita a la Pirotécnica. \nPlazo para apuntarse hasta el 27 de Enero
URL:https://fallamalillaingeniero.com/event/visita-pirotecnica-plazo-para-apuntarse-hasta-27-de-enero-en-el-casal/
END:VEVENT
BEGIN:VEVENT
DTSTART;TZID=UTC:20240203T180000
DTEND;TZID=UTC:20240203T203000
DTSTAMP:20260420T000034
CREATED:20240130T191200Z
LAST-MODIFIED:20240130T191200Z
UID:16517-1706983200-1706992200@fallamalillaingeniero.com
SUMMARY:Mastercheff Malilla
DESCRIPTION:Mastercheff 2024
URL:https://fallamalillaingeniero.com/event/mastercheff-malilla/
END:VEVENT
BEGIN:VEVENT
DTSTART;TZID=UTC:20240209T210000
DTEND;TZID=UTC:20240209T233000
DTSTAMP:20260420T000034
CREATED:20240130T191104Z
LAST-MODIFIED:20240130T191104Z
UID:16515-1707512400-1707521400@fallamalillaingeniero.com
SUMMARY:Falleros de Honor. Hotel Senator
DESCRIPTION:Falleros Honor 2024
URL:https://fallamalillaingeniero.com/event/falleros-de-honor-hotel-senator/
END:VEVENT
BEGIN:VEVENT
DTSTART;TZID=UTC:20240211T154500
DTEND;TZID=UTC:20240211T170000
DTSTAMP:20260420T000034
CREATED:20240208T111025Z
LAST-MODIFIED:20240208T111025Z
UID:16550-1707666300-1707670800@fallamalillaingeniero.com
SUMMARY:Entrega Bunyols d´or i Brillants i Fulles de llorer. Reales Atarazanas.
DESCRIPTION:
URL:https://fallamalillaingeniero.com/event/entrega-bunyols-dor-i-brillants-i-fulles-de-llorer-reales-atarazanas/
END:VEVENT
BEGIN:VEVENT
DTSTART;TZID=UTC:20240218T100000
DTEND;TZID=UTC:20240218T133000
DTSTAMP:20260420T000034
CREATED:20240208T111741Z
LAST-MODIFIED:20240208T111741Z
UID:16559-1708250400-1708263000@fallamalillaingeniero.com
SUMMARY:Exaltació FMI 2024. Sala Canal
DESCRIPTION:
URL:https://fallamalillaingeniero.com/event/exaltacio-fmi-2024-sala-canal/
END:VEVENT
BEGIN:VEVENT
DTSTART;TZID=UTC:20240224T100000
DTEND;TZID=UTC:20240224T120000
DTSTAMP:20260420T000034
CREATED:20240220T184839Z
LAST-MODIFIED:20240223T075052Z
UID:16612-1708768800-1708776000@fallamalillaingeniero.com
SUMMARY:APLAZADA. Visita Exposición del Ninot
DESCRIPTION:El sábado 24 de febrero iremos a la visita de la Exposición del Ninot\, quedaremos en el casal a las 10:00 e iremos todos juntos desde allí o nos vemos en la puerta\, acordaros de llevar las prendas oficiales.
URL:https://fallamalillaingeniero.com/event/visita-exposicion-del-ninot-2/
LOCATION:Casal
END:VEVENT
BEGIN:VEVENT
DTSTART;TZID=UTC:20240224T180000
DTEND;TZID=UTC:20240224T210000
DTSTAMP:20260420T000034
CREATED:20240223T085037Z
LAST-MODIFIED:20240223T085037Z
UID:16639-1708797600-1708808400@fallamalillaingeniero.com
SUMMARY:Recogida ayuda edificio Campanar
DESCRIPTION:Ayuda edificio Campanar
URL:https://fallamalillaingeniero.com/event/recogida-ayuda-edificio-campanar-2/
END:VEVENT
BEGIN:VEVENT
DTSTART;VALUE=DATE:20240225
DTEND;VALUE=DATE:20240226
DTSTAMP:20260420T000034
CREATED:20240223T075407Z
LAST-MODIFIED:20240223T075407Z
UID:16629-1708819200-1708905599@fallamalillaingeniero.com
SUMMARY:APLAZADA. Cridà
DESCRIPTION:A las 12h la delegación de festejos ha preparado un quinto y tapa para ir entrando en calor y disfrutar todos juntos.\n\n\nA las 14:00h comida para la comisión mayor ofrecida por la falla y hecha por nuestros cocineros!\n\n\nA las 16:30h concentración en el casal para ir a las torres de serranos todos juntos y dar la bienvenida a las fallas 2024.
URL:https://fallamalillaingeniero.com/event/aplazada-crida/
END:VEVENT
BEGIN:VEVENT
DTSTART;VALUE=DATE:20240225
DTEND;VALUE=DATE:20240226
DTSTAMP:20260420T000034
CREATED:20240223T084845Z
LAST-MODIFIED:20240223T084906Z
UID:16637-1708819200-1708905599@fallamalillaingeniero.com
SUMMARY:Recogida ayuda edificio Campanar
DESCRIPTION:
URL:https://fallamalillaingeniero.com/event/recogida-ayuda-edificio-campanar/
END:VEVENT
END:VCALENDAR