BEGIN:VCALENDAR
VERSION:2.0
PRODID:-//Web de la Asociación Cultural Falla Carrera Malilla Ingeniero Joaquín Benlloch - ECPv6.15.14//NONSGML v1.0//EN
CALSCALE:GREGORIAN
METHOD:PUBLISH
X-ORIGINAL-URL:https://fallamalillaingeniero.com
X-WR-CALDESC:Eventos para Web de la Asociación Cultural Falla Carrera Malilla Ingeniero Joaquín Benlloch
REFRESH-INTERVAL;VALUE=DURATION:PT1H
X-Robots-Tag:noindex
X-PUBLISHED-TTL:PT1H
BEGIN:VTIMEZONE
TZID:UTC
BEGIN:STANDARD
TZOFFSETFROM:+0000
TZOFFSETTO:+0000
TZNAME:UTC
DTSTART:20230101T000000
END:STANDARD
END:VTIMEZONE
BEGIN:VEVENT
DTSTART;TZID=UTC:20240504T183000
DTEND;TZID=UTC:20240504T200000
DTSTAMP:20260419T195144
CREATED:20240503T120059Z
LAST-MODIFIED:20240503T120059Z
UID:16850-1714847400-1714852800@fallamalillaingeniero.com
SUMMARY:Merienda de la risa. Infantil.
DESCRIPTION:Fiesta risa 2024
URL:https://fallamalillaingeniero.com/event/merienda-de-la-risa-infantil/
END:VEVENT
BEGIN:VEVENT
DTSTART;TZID=UTC:20240510T230000
DTEND;TZID=UTC:20240511T000000
DTSTAMP:20260419T195144
CREATED:20240507T190544Z
LAST-MODIFIED:20240507T190803Z
UID:16866-1715382000-1715385600@fallamalillaingeniero.com
SUMMARY:Dansà de la Virgen
DESCRIPTION:
URL:https://fallamalillaingeniero.com/event/dansa-de-la-virgen/
LOCATION:Plaza de la Virgen
END:VEVENT
BEGIN:VEVENT
DTSTART;TZID=UTC:20240511T190000
DTEND;TZID=UTC:20240512T010000
DTSTAMP:20260419T195144
CREATED:20240507T190712Z
LAST-MODIFIED:20240507T190712Z
UID:16868-1715454000-1715475600@fallamalillaingeniero.com
SUMMARY:Fiesta de Eurovisión 2024
DESCRIPTION:Fiesta Eurovisión 2024
URL:https://fallamalillaingeniero.com/event/fiesta-de-eurovision-2024/
END:VEVENT
END:VCALENDAR