BEGIN:VCALENDAR
VERSION:2.0
PRODID:-//Web de la Asociación Cultural Falla Carrera Malilla Ingeniero Joaquín Benlloch - ECPv6.15.14//NONSGML v1.0//EN
CALSCALE:GREGORIAN
METHOD:PUBLISH
X-WR-CALNAME:Web de la Asociación Cultural Falla Carrera Malilla Ingeniero Joaquín Benlloch
X-ORIGINAL-URL:https://fallamalillaingeniero.com
X-WR-CALDESC:Eventos para Web de la Asociación Cultural Falla Carrera Malilla Ingeniero Joaquín Benlloch
REFRESH-INTERVAL;VALUE=DURATION:PT1H
X-Robots-Tag:noindex
X-PUBLISHED-TTL:PT1H
BEGIN:VTIMEZONE
TZID:UTC
BEGIN:STANDARD
TZOFFSETFROM:+0000
TZOFFSETTO:+0000
TZNAME:UTC
DTSTART:20230101T000000
END:STANDARD
END:VTIMEZONE
BEGIN:VEVENT
DTSTART;TZID=UTC:20240907T183000
DTEND;TZID=UTC:20240907T210000
DTSTAMP:20260419T135612
CREATED:20240904T221440Z
LAST-MODIFIED:20240904T221440Z
UID:17017-1725733800-1725742800@fallamalillaingeniero.com
SUMMARY:Nombramiento Falleras Mayores 2025
DESCRIPTION:
URL:https://fallamalillaingeniero.com/event/nombramiento-falleras-mayores-2025/
END:VEVENT
BEGIN:VEVENT
DTSTART;TZID=UTC:20240913T200000
DTEND;TZID=UTC:20240913T233000
DTSTAMP:20260419T135612
CREATED:20240731T073229Z
LAST-MODIFIED:20240905T224957Z
UID:16999-1726257600-1726270200@fallamalillaingeniero.com
SUMMARY:VI Setmana Cultural
DESCRIPTION:
URL:https://fallamalillaingeniero.com/event/vi-cap-de-setmana-cultural/
END:VEVENT
BEGIN:VEVENT
DTSTART;TZID=UTC:20240914T110000
DTEND;TZID=UTC:20240914T233000
DTSTAMP:20260419T135612
CREATED:20240905T223520Z
LAST-MODIFIED:20240905T223520Z
UID:17038-1726311600-1726356600@fallamalillaingeniero.com
SUMMARY:VI Setmana Cultural
DESCRIPTION:
URL:https://fallamalillaingeniero.com/event/vi-setmana-cultural/
END:VEVENT
BEGIN:VEVENT
DTSTART;TZID=UTC:20240915T120000
DTEND;TZID=UTC:20240915T193000
DTSTAMP:20260419T135612
CREATED:20240905T224313Z
LAST-MODIFIED:20240905T224313Z
UID:17044-1726401600-1726428600@fallamalillaingeniero.com
SUMMARY:VI Setmana Cultural
DESCRIPTION:Semana Cultural 15 Septiembre\nSemana Cultural 15 septiembre tarde
URL:https://fallamalillaingeniero.com/event/vi-setmana-cultural-2/
END:VEVENT
END:VCALENDAR